BEGIN:VCALENDAR
VERSION:2.0
PRODID:-//Eventin//Event Calendar//EN
CALSCALE:GREGORIAN
METHOD:PUBLISH
BEGIN:VEVENT
UID:a99fea864289bd1b42e5171af72e63e5@anciens246bdb.org
SUMMARY:Camp scout non scout 2026
DESCRIPTION:
LOCATION:60 15e rue\, Laval\, QC H7N 1L1
DTSTAMP:20260424T141237Z
DTSTART:20260904T040000Z
DTEND:20260906T040000Z
END:VEVENT
END:VCALENDAR
